BEGIN:VCALENDAR
VERSION:2.0
METHOD:PUBLISH
BEGIN:VEVENT
UID:WILD_APRICOT_EVENT_3746411_SESSION_1
DTSTART:20200319T063000Z
DTEND:20200319T083000Z
SUMMARY:GBBC BAF - Hosted by Business Depot
LOCATION:NBC Sports Club\, 166 Windsor Road\, Northmead
DESCRIPTION:http://greaterbbc.org.au/event-3746411\n\nOur host for March is business DEPOT Sydney.\n  Business DEPOT Sydney have created one place for business owners to go. That way you don’t have to search high and low for advice and support to make it happen. They are a crew of specialist advisors and service providers with ambitious minds.\n  At business DEPOT Sydney you get the relationship for free. You can expect us to take the time to get to know you and your business so we can get to the heart of the issues that truly matter. We deliver practical solutions that you can implement to deliver lasting value\, without the robotic mumbo jumbo.\n  Whether you are just starting out\, have business growth on your horizons\, are feeling stuck in neutral and are out of ideas\, or are looking to call it a day\, business DEPOT Sydney have got the experience\, connections and proven approach to align your thoughts with action.\n  This is an amazing networking opportunity. Let us help you grow and expand your business.!\n  To register at Sticky Tickets:  CLICK HERE\n  We look forward to seeing you there.\n  \n\n
DTSTAMP:20200228T214118Z
END:VEVENT
END:VCALENDAR
