BEGIN:VCALENDAR
VERSION:2.0
METHOD:PUBLISH
BEGIN:VEVENT
UID:WILD_APRICOT_EVENT_3759577_SESSION_1
DTSTART:20200512T080000Z
DTEND:20200512T130000Z
SUMMARY:2020 Blacktown City Local Business Awards
LOCATION:Blacktown Workers Club\, 55 Campbell Street\, Blacktown
DESCRIPTION:http://greaterbbc.org.au/event-3759577\n\nThe 2020 Blacktown City Local Business Awards is back again. The Blacktown City Local Business Awards are dedicated to recognising and celebrating the importance of local business in the community. For local business teams\, the Awards offer the rare change to be recognised for their dedication to customers and the wider community. Local customers are also able to express their gratitude for quality local businesses with an Awards nomination.\n  Nominations Open: Monday 24th February 2020\n  Nominations Close:Tuesday 17th March 2020\n  RSVP: Wednesday 22nd April 2020\n  Presentation Date: Tuesday 12th May 2020\n  Venue:Blacktown Workers Club\n  For further information on the 2020 Blacktown City Local Business Awards\, visit:  www.thebusinessawards.com.au\n  \n\n
DTSTAMP:20200228T214129Z
END:VEVENT
END:VCALENDAR
